BEGIN:VCALENDAR
VERSION:2.0
PRODID:-//wp-events-plugin.com//7.2.3.1//EN
TZID:America/New_York
X-WR-TIMEZONE:America/New_York
BEGIN:VEVENT
UID:13@orthounitedohio.com
DTSTART;TZID=America/New_York:20260428T180000
DTEND;TZID=America/New_York:20260428T190000
DTSTAMP:20260414T191731Z
URL:https://orthounitedohio.com/lets-talk-orthopaedics/new-date-added-the-
 intracept-procedure-a-new-approach-to-low-back-pain/
SUMMARY:NEW DATE ADDED: The Intracept™ Procedure: A New Approach to Low B
 ack Pain
DESCRIPTION:Low back pain is one of the most common reasons people seek med
 ical care\, affecting daily activities\, work\, sleep\, and overall qualit
 y of life. During this free community event\, Dr. Meghan Nein will focus o
 n the Intracept Procedure\, an innovative\, minimally invasive treatment d
 esigned for certain types of chronic low back pain.
ATTACH;FMTTYPE=image/jpeg:https://orthounitedohio.com/wp-content/uploads/2
 026/03/ou-hero-neck-spine-2-lighter-Large.jpeg
LOCATION:OASIS Surgery Center\, 7000 Whipple Ave NW\, North Canton\, Ohio\,
  44720\, United States
X-APPLE-STRUCTURED-LOCATION;VALUE=URI;X-ADDRESS=7000 Whipple Ave NW\, North
  Canton\, Ohio\, 44720\, United States;X-APPLE-RADIUS=100;X-TITLE=OASIS Su
 rgery Center:geo:0,0
END:VEVENT
BEGIN:VTIMEZONE
TZID:America/New_York
X-LIC-LOCATION:America/New_York
BEGIN:DAYLIGHT
DTSTART:20260308T030000
TZOFFSETFROM:-0500
TZOFFSETTO:-0400
TZNAME:EDT
END:DAYLIGHT
END:VTIMEZONE
END:VCALENDAR